Workbook

Sheet INSTRUCTIONS
B2: 2026 Mater Research Betty McGrath Grant
B3: Grants may be used to support the following: Project costs • purchase of small research equipment/software (note that purchases >$10,000 will require normal Mater capital expenditure approval and documentation) • project related consumables • statistical advice • research staff salaries or back-fill of medical, nursing, or allied health staff within Mater only • open-access article processing charges (publication fees) • consumer engagement related expenses • Project related travel (eg site visits, excluding conference travel) Salaries • research staff salaries within Mater only • or back-fill of medical, nursing, or allied health staff within Mater only Costs not permitted include: • conference related costs • memberships • external salaries • indirect costs/overheads
B4: Instructions
B5: General • Use this workbook to show your budget calculations • Use the light grey cells to record your descriptions and your calculations. • Do NOT modify the "Totals" columns. • Do NOT enter information in the other cells in your budget sheets. These contains formulas. Do not enter information into the • Year and Grand TOTALS worksheet as this is set to autofill. • Transfer your Yearly and Grant TOTALS to your Betty McGrath Application Form. • Submit the Excel sheet with your Application Form with file name: 2026 BM Budget_SURNAME.
B6: Equipment Costs 1. Enter a description of minor equipment/software into each lini of the table for each year that you plan to purchase for the research project. 2. Enter the price of the equipment eost without GST. 3. Use the "Number of Units" column to enter the the number of items Proejct Costs 1. Select the project cost type from the drop down menu 2. Enter a description of each project costs into each line of the able for each year that you plan to purchase for the research project. 2. Enter the price of each cost 3. Use the "Number of Units" column to enter thethe number of pieces of items
B7: Salary Costs You may use the grant to provide a salary for research staff contributing to the project, or back-fill of medical, nursing, or allied health staff within Mater only . Refer to the example salary worksheet for an example. To complete the salary sheet: 1. Mater Health clinical salary scales can be found at the Mater HR SharePoint (link below for clinical wage rates) and on-cost rates to be confirmed by relevant Health finance business partner. 2. Mater Research base salaries can be found in the ‘Mater Research Salary for Grant budgeting’ spreadsheet available on the Mater Research Grants and Engagement SharePoint (link below) 3. Enter a number in the Person column for each person on the project, e.g. 1, 2 or 4. Enter a description of their role in the Description column, e.g. Research Nurse or Facilitator, Research Assistant. 5. Enter the Mater Health (MH) or Mater Research Ltd (MRL) appointment level and rate from the appropriate salary scale 6. Enter the on-cost rate as a percentage (%). These are extra costs that need to be covered by the grant in addition to the person's salary. On-costs include items such as superannuation, annual recreation leave loading, and Workcover provisions. Clinical on-cost rates are to be confirmed by relevant Health finance business partner. Mater Research on-cost rate is 25% 7. Enter the days/week and weeks/year the person will be contributing to the project. If they are only working a half day, enter 0.5. The standard hours/day is 7.6 which is already contained in the formulas.
B8: Mater HR sharepoint (for clinical wage rates): Enterprise Agreements and Modern Awards **on-cost rates to be confirmed by relevant Health finance business partner**
B9: Mater Research and Mater Clinical Trial salaries for grant budgets

Sheet Equipment and Project costs
B2: 2026 Mater Research Betty McGrath Seeding Grant - Equipment and Project Costs
B4: Applicant Name:
A6: YEAR 1 | B6: Equipment | D6: Description | E6: Equipment Cost | F6: Number of Units | G6: Total
B7: Equipment 1 | G7: =E7*F7 -> 0
B8: Equipment 2 | G8: =E8*F8 -> 0
B9: Equipment 3 | G9: =E9*F9 -> 0
B10: Equipment 4 | G10: =E10*F10 -> 0
B11: Equipment 5 | G11: =E11*F11 -> 0
B12: Equipment 6 | G12: =E12*F12 -> 0
F13: Equipment costs Sub-Total | G13: =SUM(G7:G12) -> 0
B14: Project Costs | D14: Description | E14: Unit Cost | F14: Number of Units | G14: Total
B15: Type (Use drop down list)
C16: Item 1 | G16: =E16*F16 -> 0
C17: Item 2 | G17: =E17*F17 -> 0
C18: Item 3 | G18: =E18*F18 -> 0
C19: Item 4 | G19: =E19*F19 -> 0
C20: Item 5 | G20: =E20*F20 -> 0
C21: Item 6 | G21: =E21*F21 -> 0
C22: Item 7 | G22: =E22*F22 -> 0
C23: Item 8 | G23: =E23*F23 -> 0
C24: Item 9 | G24: =E24*F24 -> 0
C25: Item 10 | G25: =E25*F25 -> 0
C26: Item 11 | G26: =E26*F26 -> 0
C27: Item 12 | G27: =E27*F27 -> 0
F28: Project costs Sub-Total | G28: =SUM(G16:G27) -> 0
F29: YEAR 1 TOTAL | G29: =G13+G28 -> 0
A31: YEAR 2 | B31: Equipment | D31: Description | E31: Equipment Cost | F31: Number of Units | G31: Total
B32: Equipment 1 | G32: =E32*F32 -> 0
B33: Equipment 2 | G33: =E33*F33 -> 0
B34: Equipment 3 | G34: =E34*F34 -> 0
B35: Equipment 4 | G35: =E35*F35 -> 0
B36: Equipment 5 | G36: =E36*F36 -> 0
B37: Equipment 6 | G37: =E37*F37 -> 0
B38: Equipment 7 | G38: =E38*F38 -> 0
B39: Equipment 8 | G39: =E39*F39 -> 0
B40: Equipment 9 | G40: =E40*F40 -> 0
B41: Equipment 10 | G41: =E41*F41 -> 0
B42: Equipment 11 | G42: =E42*F42 -> 0
B43: Equipment 12 | G43: =E43*F43 -> 0
F44: Equipment costs Sub-Total | G44: =SUM(G32:G43) -> 0
...

Sheet Salary
B2: 2026 Mater Research Betty McGrath Seeding Grant - Salary
B4: Applicant Name:
B6: 1 day = 7.6 hours | D6: research staff salaries or back-fill of medical, nursing, or allied health staff within Mater only
C7: Mater Health Salaries | D7: Mater HR sharepoint (for clinical wage rates): Enterprise Agreements and Modern Awards **on-cost rates to be confirmed by relevant Health finance business partner**
C8: Mater Research and Mater Clinical Trials salaries | D8: For Mater Research salaries, use the Mater Research salary for Grant budgeting spreadsheet on the Mater Research SharePoint . Oncosts 25%
A9: YEAR 1 | B9: Person # | C9: New salary request or Backfill request | D9: Description, e.g. Research Nurse | E9: Appointment Level | F9: Base Hourly Rate ($) | G9: On-cost Rate (%) | H9: Days/week | I9: Number of Weeks/year | J9: Total Base Salary | K9: Total On-Costs | L9: Total
J10: =(F10*7.6*H10*I10) -> 0 | K10: =G10*(F10*7.6*H10*I10) -> 0 | L10: =(F10*7.6*H10*I10)+(G10*(F10*7.6*H10*I10)) -> 0
J11: =(F11*7.6*H11*I11) -> 0 | K11: =G11*(F11*7.6*H11*I11) -> 0 | L11: =(F11*7.6*H11*I11)+(G11*(F11*7.6*H11*I11)) -> 0
J12: =(F12*7.6*H12*I12) -> 0 | K12: =G12*(F12*7.6*H12*I12) -> 0 | L12: =(F12*7.6*H12*I12)+(G12*(F12*7.6*H12*I12)) -> 0
J13: =(F13*7.6*H13*I13) -> 0 | K13: =G13*(F13*7.6*H13*I13) -> 0 | L13: =(F13*7.6*H13*I13)+(G13*(F13*7.6*H13*I13)) -> 0
J14: =(F14*7.6*H14*I14) -> 0 | K14: =G14*(F14*7.6*H14*I14) -> 0 | L14: =(F14*7.6*H14*I14)+(G14*(F14*7.6*H14*I14)) -> 0
J15: =(F15*7.6*H15*I15) -> 0 | K15: =G15*(F15*7.6*H15*I15) -> 0 | L15: =(F15*7.6*H15*I15)+(G15*(F15*7.6*H15*I15)) -> 0
J16: =(F16*7.6*H16*I16) -> 0 | K16: =G16*(F16*7.6*H16*I16) -> 0 | L16: =(F16*7.6*H16*I16)+(G16*(F16*7.6*H16*I16)) -> 0
J17: =(F17*7.6*H17*I17) -> 0 | K17: =G17*(F17*7.6*H17*I17) -> 0 | L17: =(F17*7.6*H17*I17)+(G17*(F17*7.6*H17*I17)) -> 0
J18: =(F18*7.6*H18*I18) -> 0 | K18: =G18*(F18*7.6*H18*I18) -> 0 | L18: =(F18*7.6*H18*I18)+(G18*(F18*7.6*H18*I18)) -> 0
J19: =(F19*7.6*H19*I19) -> 0 | K19: =G19*(F19*7.6*H19*I19) -> 0 | L19: =(F19*7.6*H19*I19)+(G19*(F19*7.6*H19*I19)) -> 0
J20: =(F20*7.6*H20*I20) -> 0 | K20: =G20*(F20*7.6*H20*I20) -> 0 | L20: =(F20*7.6*H20*I20)+(G20*(F20*7.6*H20*I20)) -> 0
J21: =(F21*7.6*H21*I21) -> 0 | K21: =G21*(F21*7.6*H21*I21) -> 0 | L21: =(F21*7.6*H21*I21)+(G21*(F21*7.6*H21*I21)) -> 0
... J29: =(F29*7.6*H29*I29) -> 0 | K29: =G29*(F29*7.6*H29*I29) -> 0 | L29: =(F29*7.6*H29*I29)+(G29*(F29*7.6*H29*I29)) -> 0
J30: Salary YEAR 1 Total | L30: =SUM(L10:L29) -> 0
A32: YEAR 2 | B32: Person # | C32: New salary request or Backfill request | D32: Description, e.g. Research Nurse | E32: Appointment Level | F32: Base Hourly Rate ($) | G32: On-cost Rate (%) | H32: Days/week | I32: Number of Weeks/year | J32: Total Base Salary | K32: Total On-Costs | L32: Total
J33: =(F33*7.6*H33*I33) -> 0 | K33: =G33*(F33*7.6*H33*I33) -> 0 | L33: =(F33*7.6*H33*I33)+(G33*(F33*7.6*H33*I33)) -> 0
J34: =(F34*7.6*H34*I34) -> 0 | K34: =G34*(F34*7.6*H34*I34) -> 0 | L34: =(F34*7.6*H34*I34)+(G34*(F34*7.6*H34*I34)) -> 0
J35: =(F35*7.6*H35*I35) -> 0 | K35: =G35*(F35*7.6*H35*I35) -> 0 | L35: =(F35*7.6*H35*I35)+(G35*(F35*7.6*H35*I35)) -> 0
J36: =(F36*7.6*H36*I36) -> 0 | K36: =G36*(F36*7.6*H36*I36) -> 0 | L36: =(F36*7.6*H36*I36)+(G36*(F36*7.6*H36*I36)) -> 0
J37: =(F37*7.6*H37*I37) -> 0 | K37: =G37*(F37*7.6*H37*I37) -> 0 | L37: =(F37*7.6*H37*I37)+(G37*(F37*7.6*H37*I37)) -> 0
J38: =(F38*7.6*H38*I38) -> 0 | K38: =G38*(F38*7.6*H38*I38) -> 0 | L38: =(F38*7.6*H38*I38)+(G38*(F38*7.6*H38*I38)) -> 0
J39: =(F39*7.6*H39*I39) -> 0 | K39: =G39*(F39*7.6*H39*I39) -> 0 | L39: =(F39*7.6*H39*I39)+(G39*(F39*7.6*H39*I39)) -> 0
J40: =(F40*7.6*H40*I40) -> 0 | K40: =G40*(F40*7.6*H40*I40) -> 0 | L40: =(F40*7.6*H40*I40)+(G40*(F40*7.6*H40*I40)) -> 0
J41: =(F41*7.6*H41*I41) -> 0 | K41: =G41*(F41*7.6*H41*I41) -> 0 | L41: =(F41*7.6*H41*I41)+(G41*(F41*7.6*H41*I41)) -> 0
J42: =(F42*7.6*H42*I42) -> 0 | K42: =G42*(F42*7.6*H42*I42) -> 0 | L42: =(F42*7.6*H42*I42)+(G42*(F42*7.6*H42*I42)) -> 0
J43: =(F43*7.6*H43*I43) -> 0 | K43: =G43*(F43*7.6*H43*I43) -> 0 | L43: =(F43*7.6*H43*I43)+(G43*(F43*7.6*H43*I43)) -> 0
J44: =(F44*7.6*H44*I44) -> 0 | K44: =G44*(F44*7.6*H44*I44) -> 0 | L44: =(F44*7.6*H44*I44)+(G44*(F44*7.6*H44*I44)) -> 0
... J52: =(F52*7.6*H52*I52) -> 0 | K52: =G52*(F52*7.6*H52*I52) -> 0 | L52: =(F52*7.6*H52*I52)+(G52*(F52*7.6*H52*I52)) -> 0
J53: Salary YEAR 2 Total | L53: =SUM(L33:L52) -> 0
A55: YEAR 3 | B55: Person # | C55: New salary request or Backfill request | D55: Description, e.g. Research Nurse | E55: Appointment Level | F55: Base Hourly Rate ($) | G55: On-cost Rate (%) | H55: Days/week | I55: Number of Weeks/year | J55: Total Base Salary | K55: Total On-Costs | L55: Total
J56: =(F56*7.6*H56*I56) -> 0 | K56: =G56*(F56*7.6*H56*I56) -> 0 | L56: =(F56*7.6*H56*I56)+(G56*(F56*7.6*H56*I56)) -> 0
J57: =(F57*7.6*H57*I57) -> 0 | K57: =G57*(F57*7.6*H57*I57) -> 0 | L57: =(F57*7.6*H57*I57)+(G57*(F57*7.6*H57*I57)) -> 0
J58: =(F58*7.6*H58*I58) -> 0 | K58: =G58*(F58*7.6*H58*I58) -> 0 | L58: =(F58*7.6*H58*I58)+(G58*(F58*7.6*H58*I58)) -> 0
J59: =(F59*7.6*H59*I59) -> 0 | K59: =G59*(F59*7.6*H59*I59) -> 0 | L59: =(F59*7.6*H59*I59)+(G59*(F59*7.6*H59*I59)) -> 0
...

Sheet Example Salary
B2: 2026 Mater Research Betty McGrath Seeding Grant - Salary
B4: Applicant Name: | C4: Example Only
B6: 1 day = 7.6 hours
C7: research staff salaries or back-fill of medical, nursing, or allied health staff within Mater only
B8: Person # | C8: Description, e.g. Research Nurse | D8: Appointment Level | E8: Base Hourly Rate ($) | F8: On-cost Rate (%) | G8: Days/week | H8: Number of Weeks/year | I8: Salary | J8: On-Costs | K8: Total
B9: 1 | C9: Enrolled Nurse | D9: MH EN1 | E9: 35.93 | F9: 0.25 | G9: 0.5 | H9: 13 | I9: =(E9*7.6*G9*H9) -> 1774.942 | J9: =F9*(E9*7.6*G9*H9) -> 443.7355 | K9: =(E9*7.6*G9*H9)+(F9*(E9*7.6*G9*H9)) -> 2218.6775
B10: 2 | C10: Phlebotomist (Health Professional) | D10: MH HP3.1 | E10: 43.68 | F10: 0.25 | G10: 0.5 | H10: 26 | I10: =(E10*7.6*G10*H10) -> 4315.584 | J10: =F10*(E10*7.6*G10*H10) -> 1078.896 | K10: =(E10*7.6*G10*H10)+(F10*(E10*7.6*G10*H10)) -> 5394.48
B11: 3 | C11: Research Assistant | D11: MRL 6.1 | E11: 42.51 | F11: 0.25 | G11: 0.38 | H11: 52 | I11: =(E11*7.6*G11*H11) -> 6383.9818 | J11: =F11*(E11*7.6*G11*H11) -> 1595.9954 | K11: =(E11*7.6*G11*H11)+(F11*(E11*7.6*G11*H11)) -> 7979.9772
B12: 4 | C12: CIA SMO3.1 | D12: MH SMO3.1 | E12: 133.17 | F12: 0.25 | G12: 0.5 | H12: 52 | I12: =(E12*7.6*G12*H12) -> 26314.392 | J12: =F12*(E12*7.6*G12*H12) -> 6578.598 | K12: =(E12*7.6*G12*H12)+(F12*(E12*7.6*G12*H12)) -> 32892.99
I13: =(E13*7.6*G13*H13) -> 0 | J13: =F13*(E13*7.6*G13*H13) -> 0 | K13: =(E13*7.6*G13*H13)+(F13*(E13*7.6*G13*H13)) -> 0
I14: =(E14*7.6*G14*H14) -> 0 | J14: =F14*(E14*7.6*G14*H14) -> 0 | K14: =(E14*7.6*G14*H14)+(F14*(E14*7.6*G14*H14)) -> 0
I15: =(E15*7.6*G15*H15) -> 0 | J15: =F15*(E15*7.6*G15*H15) -> 0 | K15: =(E15*7.6*G15*H15)+(F15*(E15*7.6*G15*H15)) -> 0
I16: =(E16*7.6*G16*H16) -> 0 | J16: =F16*(E16*7.6*G16*H16) -> 0 | K16: =(E16*7.6*G16*H16)+(F16*(E16*7.6*G16*H16)) -> 0
I17: =(E17*7.6*G17*H17) -> 0 | J17: =F17*(E17*7.6*G17*H17) -> 0 | K17: =(E17*7.6*G17*H17)+(F17*(E17*7.6*G17*H17)) -> 0
I18: =(E18*7.6*G18*H18) -> 0 | J18: =F18*(E18*7.6*G18*H18) -> 0 | K18: =(E18*7.6*G18*H18)+(F18*(E18*7.6*G18*H18)) -> 0
I19: =(E19*7.6*G19*H19) -> 0 | J19: =F19*(E19*7.6*G19*H19) -> 0 | K19: =(E19*7.6*G19*H19)+(F19*(E19*7.6*G19*H19)) -> 0
I20: =(E20*7.6*G20*H20) -> 0 | J20: =F20*(E20*7.6*G20*H20) -> 0 | K20: =(E20*7.6*G20*H20)+(F20*(E20*7.6*G20*H20)) -> 0
I21: =(E21*7.6*G21*H21) -> 0 | J21: =F21*(E21*7.6*G21*H21) -> 0 | K21: =(E21*7.6*G21*H21)+(F21*(E21*7.6*G21*H21)) -> 0
I22: =(E22*7.6*G22*H22) -> 0 | J22: =F22*(E22*7.6*G22*H22) -> 0 | K22: =(E22*7.6*G22*H22)+(F22*(E22*7.6*G22*H22)) -> 0
I23: =(E23*7.6*G23*H23) -> 0 | J23: =F23*(E23*7.6*G23*H23) -> 0 | K23: =(E23*7.6*G23*H23)+(F23*(E23*7.6*G23*H23)) -> 0
I24: =(E24*7.6*G24*H24) -> 0 | J24: =F24*(E24*7.6*G24*H24) -> 0 | K24: =(E24*7.6*G24*H24)+(F24*(E24*7.6*G24*H24)) -> 0
... I28: =(E28*7.6*G28*H28) -> 0 | J28: =F28*(E28*7.6*G28*H28) -> 0 | K28: =(E28*7.6*G28*H28)+(F28*(E28*7.6*G28*H28)) -> 0
J29: Salary Total | K29: =SUM(K9:K28) -> 48486.125

Sheet YEAR and GRAND TOTALS
A1: 2026 Mater Research Betty McGrath Seeding Grant - YEAR and GRAND TOTALS
A4: Year 1 | B4: Equipment and Project Costs TOTAL | C4: ='Equipment and Project costs'!G29 -> 0
B5: Salaries TOTAL | C5: =Salary!L30 -> 0
B6: Equipment, Project Costs & Salary TOTAL | C6: =SUM(C4:C5) -> 0
A7: Year 2 | B7: Equipment and Project Costs TOTAL | C7: ='Equipment and Project costs'!G60 -> 0
B8: Salaries TOTAL | C8: =Salary!L53 -> 0
B9: Equipment, Project Costs & Salary TOTAL | C9: =SUM(C7:C8) -> 0
A10: Year 3 | B10: Equipment and Project Costs TOTAL | C10: ='Equipment and Project costs'!G91 -> 0
B11: Salaries TOTAL | C11: =Salary!L76 -> 0
B12: Equipment, Project Costs & Salary TOTAL | C12: =SUM(C10:C11) -> 0
A13: All YEARS | B13: Equipment and Project Costs GRAND TOTAL | C13: ='YEAR and GRAND TOTALS'!G92 -> 0
B14: Salaries GRAND TOTAL | C14: =Salary!L77 -> 0
B15: ALL GRAND TOTAL | C15: =SUM(C13:C14) -> 0

Sheet List
A1: consumables and project costs
A2: economist or biostats support
A3: open access publication fees
A4: consumer engagement
A5: project travel
A6: other allowable item
A8: new salary request
A9: Backfill salary
